BEGIN:VCALENDAR
VERSION:2.0
PRODID:-//PlantAlabama.org - ECPv6.15.20//NONSGML v1.0//EN
CALSCALE:GREGORIAN
METHOD:PUBLISH
X-WR-CALNAME:PlantAlabama.org
X-ORIGINAL-URL:https://plantalabama.org
X-WR-CALDESC:Events for PlantAlabama.org
REFRESH-INTERVAL;VALUE=DURATION:PT1H
X-Robots-Tag:noindex
X-PUBLISHED-TTL:PT1H
BEGIN:VTIMEZONE
TZID:America/Chicago
BEGIN:DAYLIGHT
TZOFFSETFROM:-0600
TZOFFSETTO:-0500
TZNAME:CDT
DTSTART:20220313T080000
END:DAYLIGHT
BEGIN:STANDARD
TZOFFSETFROM:-0500
TZOFFSETTO:-0600
TZNAME:CST
DTSTART:20221106T070000
END:STANDARD
BEGIN:DAYLIGHT
TZOFFSETFROM:-0600
TZOFFSETTO:-0500
TZNAME:CDT
DTSTART:20230312T080000
END:DAYLIGHT
BEGIN:STANDARD
TZOFFSETFROM:-0500
TZOFFSETTO:-0600
TZNAME:CST
DTSTART:20231105T070000
END:STANDARD
BEGIN:DAYLIGHT
TZOFFSETFROM:-0600
TZOFFSETTO:-0500
TZNAME:CDT
DTSTART:20240310T080000
END:DAYLIGHT
BEGIN:STANDARD
TZOFFSETFROM:-0500
TZOFFSETTO:-0600
TZNAME:CST
DTSTART:20241103T070000
END:STANDARD
END:VTIMEZONE
BEGIN:VEVENT
DTSTART;TZID=America/Chicago:20231113T080000
DTEND;TZID=America/Chicago:20231113T120000
DTSTAMP:20260421T161728
CREATED:20230512T185407Z
LAST-MODIFIED:20231107T202841Z
UID:1060-1699862400-1699876800@plantalabama.org
SUMMARY:Church Planter Seminar Day
DESCRIPTION:Key seminars addressing the ministry needs of church planters in Alabama. \nTopics will include: \n\nReplanting – Led by Brian Harper and Josh Knerim\nRural Church Planting – Led by Darryl Brunson\nUrban Church Planting – Led by Terrence Jones\nHispanic Church Planting – Led by Campo Londono and Ramon Vielza\n\n\nFill out my online form.\n\n  Fill out my Wufoo form!
URL:https://plantalabama.org/event/church-planter-seminar-day/
LOCATION:Strong Tower at Washington Park\, 2840 Boys Club Rd\, Montgomery\, AL\, 36108\, United States
ATTACH;FMTTYPE=image/webp:https://plantalabama.org/wp-content/uploads/2023/05/Planter-Seminar.webp
ORGANIZER;CN="Dawn Watkins":MAILTO:dwatkins@alsbom.org
END:VEVENT
BEGIN:VEVENT
DTSTART;TZID=America/Chicago:20231112T170000
DTEND;TZID=America/Chicago:20231112T200000
DTSTAMP:20260421T161728
CREATED:20230512T184528Z
LAST-MODIFIED:20230809T152234Z
UID:1057-1699808400-1699819200@plantalabama.org
SUMMARY:Church Planter Network Dinner
DESCRIPTION:Church Planters and wives or anyone interested in Kingdom Expansion are invited to this event! \n\nFill out my online form.\n\n  Fill out my Wufoo form!
URL:https://plantalabama.org/event/church-planter-network-dinner-4/
LOCATION:Strong Tower at Washington Park\, 2840 Boys Club Rd\, Montgomery\, AL\, 36108\, United States
ATTACH;FMTTYPE=image/webp:https://plantalabama.org/wp-content/uploads/2023/05/dinner-place-setting-scaled.webp
ORGANIZER;CN="Dawn Watkins":MAILTO:dwatkins@alsbom.org
END:VEVENT
END:VCALENDAR