BEGIN:VCALENDAR
VERSION:2.0
PRODID:-//PlantAlabama.org - ECPv6.15.20//NONSGML v1.0//EN
CALSCALE:GREGORIAN
METHOD:PUBLISH
X-ORIGINAL-URL:https://plantalabama.org
X-WR-CALDESC:Events for PlantAlabama.org
REFRESH-INTERVAL;VALUE=DURATION:PT1H
X-Robots-Tag:noindex
X-PUBLISHED-TTL:PT1H
BEGIN:VTIMEZONE
TZID:America/Chicago
BEGIN:DAYLIGHT
TZOFFSETFROM:-0600
TZOFFSETTO:-0500
TZNAME:CDT
DTSTART:20230312T080000
END:DAYLIGHT
BEGIN:STANDARD
TZOFFSETFROM:-0500
TZOFFSETTO:-0600
TZNAME:CST
DTSTART:20231105T070000
END:STANDARD
BEGIN:DAYLIGHT
TZOFFSETFROM:-0600
TZOFFSETTO:-0500
TZNAME:CDT
DTSTART:20240310T080000
END:DAYLIGHT
BEGIN:STANDARD
TZOFFSETFROM:-0500
TZOFFSETTO:-0600
TZNAME:CST
DTSTART:20241103T070000
END:STANDARD
BEGIN:DAYLIGHT
TZOFFSETFROM:-0600
TZOFFSETTO:-0500
TZNAME:CDT
DTSTART:20250309T080000
END:DAYLIGHT
BEGIN:STANDARD
TZOFFSETFROM:-0500
TZOFFSETTO:-0600
TZNAME:CST
DTSTART:20251102T070000
END:STANDARD
BEGIN:DAYLIGHT
TZOFFSETFROM:-0600
TZOFFSETTO:-0500
TZNAME:CDT
DTSTART:20260308T080000
END:DAYLIGHT
BEGIN:STANDARD
TZOFFSETFROM:-0500
TZOFFSETTO:-0600
TZNAME:CST
DTSTART:20261101T070000
END:STANDARD
END:VTIMEZONE
BEGIN:VEVENT
DTSTART;TZID=America/Chicago:20241110T170000
DTEND;TZID=America/Chicago:20241110T200000
DTSTAMP:20260421T141950
CREATED:20240506T205342Z
LAST-MODIFIED:20240506T205342Z
UID:1170-1731258000-1731268800@plantalabama.org
SUMMARY:Church Planter Network Dinner
DESCRIPTION:Church Planters and wives or anyone interested in Kingdom Expansion are invited to this event! \n\nFill out my online form.\n\n  Fill out my Wufoo form!
URL:https://plantalabama.org/event/church-planter-network-dinner-5/
LOCATION:3Circle Church\, 10274 State Hwy 104\, Fairhope\, 36532\, United States
ATTACH;FMTTYPE=image/webp:https://plantalabama.org/wp-content/uploads/2023/05/dinner-place-setting-scaled.webp
ORGANIZER;CN="Haley Carlos":MAILTO:hcarlos@alsbom.org
END:VEVENT
BEGIN:VEVENT
DTSTART;TZID=America/Chicago:20241111T080000
DTEND;TZID=America/Chicago:20241111T120000
DTSTAMP:20260421T141950
CREATED:20240506T205543Z
LAST-MODIFIED:20241010T164030Z
UID:1173-1731312000-1731326400@plantalabama.org
SUMMARY:Church Planter Seminar Day
DESCRIPTION:Key seminars addressing the ministry needs of church planters in Alabama. No lunch provided. \n\nFill out my online form.\n\n  Fill out my Wufoo form!
URL:https://plantalabama.org/event/church-planter-seminar-day-2/
LOCATION:3Circle Church\, 10274 State Hwy 104\, Fairhope\, 36532\, United States
ATTACH;FMTTYPE=image/webp:https://plantalabama.org/wp-content/uploads/2024/05/Plant-AL-logo-on-Soil.webp
ORGANIZER;CN="Haley Carlos":MAILTO:hcarlos@alsbom.org
END:VEVENT
BEGIN:VEVENT
DTSTART;TZID=America/Chicago:20251109T170000
DTEND;TZID=America/Chicago:20251109T210000
DTSTAMP:20260421T141950
CREATED:20240509T193712Z
LAST-MODIFIED:20240509T193712Z
UID:1174-1762707600-1762722000@plantalabama.org
SUMMARY:Church Planter Network Dinner
DESCRIPTION:An annual celebration dinner for all church planters across Alabama.  There will be recognitions and testimonies of what God is doing throughout Alabama church planting. Church Planters and wives are welcome to attend\, as well as anyone interested in Kingdom Expansion. The dinner is free. Registration is required. \n\nFill out my online form.\n\n  Fill out my Wufoo form! \n 
URL:https://plantalabama.org/event/church-planter-network-dinner/
LOCATION:Essential Church – Huntsville\, 801 Beirne Ave NE\, Huntsville\, AL\, 35801\, United States
ATTACH;FMTTYPE=image/webp:https://plantalabama.org/wp-content/uploads/2023/05/dinner-place-setting-scaled.webp
ORGANIZER;CN="Haley Carlos":MAILTO:hcarlos@alsbom.org
END:VEVENT
BEGIN:VEVENT
DTSTART;TZID=America/Chicago:20251110T080000
DTEND;TZID=America/Chicago:20251110T120000
DTSTAMP:20260421T141950
CREATED:20240509T192827Z
LAST-MODIFIED:20240509T193051Z
UID:1176-1762761600-1762776000@plantalabama.org
SUMMARY:Church Planter Seminar Day
DESCRIPTION:Key seminars addressing the ministry needs of church planters in Alabama. No lunch provided. \n\nFill out my online form.\n\n  Fill out my Wufoo form!
URL:https://plantalabama.org/event/church-planter-seminar-day-3/
LOCATION:Essential Church – Huntsville\, 801 Beirne Ave NE\, Huntsville\, AL\, 35801\, United States
ORGANIZER;CN="Haley Carlos":MAILTO:hcarlos@alsbom.org
END:VEVENT
END:VCALENDAR